BEGIN:VCALENDAR
VERSION:2.0
PRODID:-//Miami Calendar - ECPv6.15.18//NONSGML v1.0//EN
CALSCALE:GREGORIAN
METHOD:PUBLISH
X-WR-CALNAME:Miami Calendar
X-ORIGINAL-URL:https://miamicalendar.com
X-WR-CALDESC:Events for Miami Calendar
REFRESH-INTERVAL;VALUE=DURATION:PT1H
X-Robots-Tag:noindex
X-PUBLISHED-TTL:PT1H
BEGIN:VTIMEZONE
TZID:America/New_York
BEGIN:DAYLIGHT
TZOFFSETFROM:-0500
TZOFFSETTO:-0400
TZNAME:EDT
DTSTART:20180311T070000
END:DAYLIGHT
BEGIN:STANDARD
TZOFFSETFROM:-0400
TZOFFSETTO:-0500
TZNAME:EST
DTSTART:20181104T060000
END:STANDARD
BEGIN:DAYLIGHT
TZOFFSETFROM:-0500
TZOFFSETTO:-0400
TZNAME:EDT
DTSTART:20190310T070000
END:DAYLIGHT
BEGIN:STANDARD
TZOFFSETFROM:-0400
TZOFFSETTO:-0500
TZNAME:EST
DTSTART:20191103T060000
END:STANDARD
BEGIN:DAYLIGHT
TZOFFSETFROM:-0500
TZOFFSETTO:-0400
TZNAME:EDT
DTSTART:20200308T070000
END:DAYLIGHT
BEGIN:STANDARD
TZOFFSETFROM:-0400
TZOFFSETTO:-0500
TZNAME:EST
DTSTART:20201101T060000
END:STANDARD
END:VTIMEZONE
BEGIN:VEVENT
DTSTART;TZID=America/New_York:20190828T200000
DTEND;TZID=America/New_York:20190828T230000
DTSTAMP:20260419T084803
CREATED:20190826T161457Z
LAST-MODIFIED:20190829T083152Z
UID:86591-1567022400-1567033200@miamicalendar.com
SUMMARY:Miami Comedy Documentary Screening of Respect the Light
DESCRIPTION:Being a stand up comedian is rough\, especially in Miami. But things are about to change!\nYou can witness what a group of local comedians are doing to make you laugh in the Magic City during this exclusive documentary screening of Respect the Light at the Miami Improv!\n\nMiamiComedy.com and ComedyCalendar.com bring you an exclusive screening of Respect the Light\, a documentary filmed by The Ledge Media that places the spotlight on 3 Miami comedians: Manny Garavito\, Cbas Mattar\, and Rudy Wilson.\nWe will screen all 5 (15min) episodes on the LED screen of the Miami Improv stage and hold Q+A comedy roasts sessions in between.\nYou are invited to see this original mini-series before all episodes are distributed by Amazon Prime Video and beyond!\nWatch the trailer here: https://youtu.be/YpT_8w13E00\nWednesday August 28th 8PM at the Brand-New Miami Improv\n\nCraft Beers\, Wine\, Cocktails and Bottle Service available\nAppetizers\, Share Plates\, and Dining Menus available\n5 (15 minute) episodes with Q+A Roast Sessions in between\nTwo drink minimum during showtime\nAges 18+\nYes\, we will open on time\n\n\n\n \nAbout Miami Improv\nLocated at the Doral City Place Plaza\, the Miami Improv is the city’s only comedy club theater. Presenting locals celebrity comedian appearances in a large seating venue and offering attendees a full drinking and dining menu to elevate your laughing experience!\nAbout MiamiComedy.com\nMiamiComedy.com has produced independent comedy events for years. We find authentic performers and curate entertaining live shows for people who love to laugh it up and enjoy the true art of stand up comedy in Miami.\nWe do pop up shows all over Miami in all your favorite bars\, restaurants\, lounges and now theaters! We make each experience unique with its own environment\, drinking and dining menus!\nQuestions? Get them answered here:\nPhone/SMS/Text Message: 3054987739 Email: manny@miamicomedy.com Chat: miamicomedy.com
URL:https://miamicalendar.com/event/miami-comedy-documentary-screening-of-respect-the-light/
LOCATION:Miami Improv Comedy Club and Dinner Theater\, 3450 Northwest 83rd Avenue\, #224\, #224\, Doral\, FL\, 33122\, United States
ATTACH;FMTTYPE=image/jpeg:https://miamicalendar.com/wp-content/uploads/2019/08/6fa1bb7204f7ff9569b2fbf9396e08c4.jpg
GEO:25.8070707;-80.3319228
X-APPLE-STRUCTURED-LOCATION;VALUE=URI;X-ADDRESS=Miami Improv Comedy Club and Dinner Theater 3450 Northwest 83rd Avenue #224 #224 Doral FL 33122 United States;X-APPLE-RADIUS=500;X-TITLE=3450 Northwest 83rd Avenue\, #224\, #224:geo:-80.3319228,25.8070707
END:VEVENT
BEGIN:VEVENT
DTSTART;TZID=America/New_York:20190827T210000
DTEND;TZID=America/New_York:20190827T230000
DTSTAMP:20260419T084803
CREATED:20190828T041125Z
LAST-MODIFIED:20190828T080757Z
UID:86592-1566939600-1566946800@miamicalendar.com
SUMMARY:Sweet Caroline Comedy Night
DESCRIPTION:Sweet Caroline Comedy Night is in Brickell and offers FREE LIVE Entertainment or Buy-One-Get-One Drinks to our attendees during showtime when you RSVP for $15.\nEvery Tuesday at Sweet Caroline Bar 9pm!\n\nFull Bar Available: beers\, wine and specially crafted cocktails\n\n\nGreat night out for date night\, social get togethers\, celebrations\, and co-workers!\n\n\nLocal Miami Comedians Showcase with special guest appearances\n\n\nHave a Funny Story to tell? Open Mic after the show\n\n\nSave on the bar tabs: Buy-One-Get-One Drinks Wristbands when you RSVP for $15 ($20 at the Door) (Can be used for Premium liquor cocktails\, beers\, spirits\, wine\, etc. Every venue has different options.) or join our Miami Comedy Membership for complimentary drinks: miamicomedy.com/access\n\nMedia\n\nSee all the fun we’re having on this show! Photos available here: http://miamicomedy.com/sweet-caroline-photos\nHere’s what you can expect on this video tour: https://youtu.be/34MrxXYu5mc \nWatch us on Amazon Prime Video: https://amzn.to/30wK5wW \nSee our article on the Miami New Times: https://miamicomedy.com/miami-new-times\nSee our article on Miami Culture Crusaders: https://miamicomedy.com/culture-crusaders\n\nSweet Caroline Bar\, Brickell Living and Miami Comedy get together to bring you a weekly comedy and drink event. Featuring local working comedians and special guest performances!\nAfter work event in Brickell where you can network with the locals\, enjoy a long happy hour and watch live entertainment.\nAbout Sweet Caroline Bar\nSweet Caroline Karaoke Bar was opened in 2018 with one purpose in mind – to bring people together through singing\, dancing\, laughing\, and drinking! Since then\, that’s exactly what we’ve accomplished.\nOur American-style karaoke bar has hosted thousands of singers from locals and tourists\, amateurs and professionals\, solos and duets. Our stage and spotlight can make even the shyest singer look and feel like a rock-star. With two big screen tv’s for the lyrics\, and DJs that know how to get the party going\, the entire crowd and even our staff are part of each and every song.\nWe are proud to have opened a bar for the community to gather and have fun in a unique and exciting way. Whether you like classic rock or hip-hop\, reggaeton or salsa\, 70’s\, 80’s\, or 90’s music\, we’re waiting for you to come sing and have fun at Sweet Caroline Karaoke Bar!\nAbout Miami Comedy\n\nMiamiComedy.com has produced independent comedy events for years. Often imitated\, but never duplicated. We are the original Miami Comedy production company finding authentic performers and curate entertaining live shows for people who love to laugh it up and enjoy the true art of stand up comedy in Miami. As seen on Amazon Prime Video “Respect the Light” the Miami New Times\, Culture Crusaders\, the Miami Improv and UNATION. We do pop up shows all over the Magic City\, in all your favorite bars\, restaurants\, lounges and theaters! We make each experience unique with its own environment\, drinking and dining menus!\nQuestions? Special Occasions? Get them answered here:\nEmail: manny@miamicomedy.com Phone / SMS / Text: 305-498-7739 Chat: miamicomedy.com
URL:https://miamicalendar.com/event/sweet-caroline-comedy-night/
LOCATION:Sweet Caroline Karaoke Bar\, 1111 Southwest 1st Avenue\, ##107\, Miami\, FL\, 33130\, United States
ATTACH;FMTTYPE=image/jpeg:https://miamicalendar.com/wp-content/uploads/2019/08/6263483e3df30403b1bd66326a85cee2.jpg
GEO:25.7628418;-80.194655
X-APPLE-STRUCTURED-LOCATION;VALUE=URI;X-ADDRESS=Sweet Caroline Karaoke Bar 1111 Southwest 1st Avenue ##107 Miami FL 33130 United States;X-APPLE-RADIUS=500;X-TITLE=1111 Southwest 1st Avenue\, ##107:geo:-80.194655,25.7628418
END:VEVENT
BEGIN:VEVENT
DTSTART;TZID=America/New_York:20190826T210000
DTEND;TZID=America/New_York:20190826T230000
DTSTAMP:20260419T084803
CREATED:20190826T042549Z
LAST-MODIFIED:20190827T080700Z
UID:86590-1566853200-1566860400@miamicalendar.com
SUMMARY:RedBar Comedy Night
DESCRIPTION:Redbar Comedy Night is located in Brickell and offers FREE ADMISSIONS or Buy-One-Get-One Premium Drinks to our attendees when you RSVP for $15.\nEvery MONDAY at the Redbar 9pm!\n\nFull Bar Available: beers\, wine and specially crafted cocktails Pizza Shop and other restaurants next door (you can dine at the bar!)\n\n\nGreat night out for date night\, social get togethers\, celebrations\, and co-workers!\n\n\nLocal Miami Comedians Showcase with special guest appearances\n\n\nHave a Funny Story to tell? Open Mic after the show\n\n\nSave on the bar tabs: Buy-One-Get-One Drinks Wristbands when you RSVP for $15 ($20 at the Door) (Can be used for Premium liquor cocktails\, beers\, spirits\, wine\, etc. Every venue has different options.) or join our Miami Comedy Membership for complimentary drinks: miamicomedy.com/access\n\nMedia\n\nSee all the fun we’re having on this show! Photos available here: http://miamicomedy.com/redbar-photos\nVideo of the Redbar Comedy Night can be found here: https://youtu.be/uufi238OGzI\nHere’s what you can expect on this video tour: https://youtu.be/3vTNuU-6B7Y\nWatch us on Amazon Prime Video: https://amzn.to/30wK5wW \nSee our article on the Miami New Times: https://miamicomedy.com/miami-new-times\nSee our article on Miami Culture Crusaders: https://miamicomedy.com/culture-crusaders\n\nRedbar\, Brickell Living and Miami Comedy get together to bring you a weekly comedy and drink event. Featuring local working comedians and special guest performances!\nAfter work event in Brickell where you can network with the locals\, enjoy a long happy hour and watch live entertainment.\nAbout Redbar Brickell\nUnpretentious mixology centered on flavor and local craft brews. The Redbar is Brickell’s favorite local bar! Catch up over a classic board game and indulge in the lounge environment as retro beats spin you back to a place you love best. Daily Happy Hour\, Comedy Night Mondays\, Whiskey Wednesdays\, Ladies Night Thursdays\, and Incredible DJs spinning on the weekends.\nAbout Miami Comedy\n\nMiamiComedy.com has produced independent comedy events for years. Often imitated\, but never duplicated. We are the original Miami Comedy production company finding authentic performers and curate entertaining live shows for people who love to laugh it up and enjoy the true art of stand up comedy in Miami. As seen on Amazon Prime Video “Respect the Light” the Miami New Times\, Culture Crusaders\, the Miami Improv and UNATION. We do pop up shows all over the Magic City\, in all your favorite bars\, restaurants\, lounges and theaters! We make each experience unique with its own environment\, drinking and dining menus!\nQuestions? Special Occasions? Get them answered here:\nEmail: manny@miamicomedy.com Phone / SMS / Text: 305-498-7739 Chat: miamicomedy.com
URL:https://miamicalendar.com/event/redbar-comedy-night/
LOCATION:RedBar Brickell\, 52 Southwest 10th Street\, Miami\, FL\, 33130\, United States
ATTACH;FMTTYPE=image/jpeg:https://miamicalendar.com/wp-content/uploads/2019/08/24e035fa52e416a80d0ec1f1a1d574a5.jpg
GEO:25.7640018;-80.1942192
X-APPLE-STRUCTURED-LOCATION;VALUE=URI;X-ADDRESS=RedBar Brickell 52 Southwest 10th Street Miami FL 33130 United States;X-APPLE-RADIUS=500;X-TITLE=52 Southwest 10th Street:geo:-80.1942192,25.7640018
END:VEVENT
BEGIN:VEVENT
DTSTART;TZID=America/New_York:20190825T210000
DTEND;TZID=America/New_York:20190825T230000
DTSTAMP:20260419T084803
CREATED:20190826T040913Z
LAST-MODIFIED:20190826T080607Z
UID:86589-1566766800-1566774000@miamicalendar.com
SUMMARY:Mr. Wright's Gold Digger Saloon Comedy Night
DESCRIPTION:Looking for a little outing before the start of your week? See the kind of experience we have in store at Mr. Wright’s Gold Diggers Saloon Sunday night. Low-key live comedy entertainment\, dining options and cocktail creations to make a night out with us full of feel good vibes.\n\nNo cover\, but please RSVP your seats in advance and arrive before showtime 9PM.\nMr. Wright’s Gold Digger Saloon and MiamiComedy.com partner up to bring the locals of Miami a place to laugh\, drink and dine to add a little more fun before the end of the weekend.\nIdeal for date night\, or for a get together with friends\, the ambiance of this outdoor lounge makes this a hidden gem in the Wynwood area.\nEvery Sunday (except 2nd Sunday) 9PM Showtime\n\nServing Specialty Cocktails\, Beers\, and Wine\nFood creations and share plates available to order\nGreat night out for date night and social get togethers.\nLocal Miami Comedians Showcase with special guest appearances\n\n\nMedia\nFind out about our Miami Comedy Documentary on Amazon Prime Video: https://amzn.to/30wK5wW\nSee photos of all the fun we’re having here: https://miamicomedy.com/saloon-photos\nAbout Mr. Wright’s Gold Digger Saloon\nIn the late 1800’s there was a bustling Gold and copper mine in Miami\, Arizona. Near the mouth of the mine was a little wooden cabin where it’s proprietor\, Mr. Wright\, created healthy elixirs and food for the Gold-miners on their way to work. When the sun would go down\, Mr. Wright’s would mix his healthy elixirs with his home made moonshine and the shack would turn into a popular Saloon – brothel nicknamed “Golddigger”. Today Mr. Wright’s Gold Digger Saloon brings the elixirs and wild times of the Old West to the Wynwood Art district. Here you’ll find a drink menu ranging from classic whiskeys and moonshine to a quirky selection of organic spirits and redneck craft cocktails. Combine that with our live music\, old world antiques and romantic lighting\, and you’ll understand what makes our place the perfect spot for the wild at heart. So\, come tie up your horse\, brush off the dust and hang with us here at the Gold Digger Saloon! Open most days 9am- 2am.\nAbout Miami Comedy\nMiamiComedy.com has produced independent comedy events for years. We find authentic performers and curate entertaining live shows for people who love to laugh it up and enjoy the true art of stand up comedy. We do pop up shows all over the Magic City in all your favorite bars\, restaurants\, lounges and theaters! We make each experience unique with its own environment\, drinking and dining menus!\nQuestions? Get them answered here:\nEmail: manny@miamicomedy.com Phone / SMS / Text: 305-498-7739 Chat: miamicomedy.com
URL:https://miamicalendar.com/event/mr-wrights-gold-digger-saloon-comedy-night/
LOCATION:Mr. Wright’s Gold Digger Saloon\, 111 Northeast 20th Street\, Miami\, FL\, 33137\, United States
ATTACH;FMTTYPE=image/jpeg:https://miamicalendar.com/wp-content/uploads/2019/08/ffc68359dea5840cd9e571480f182d02.jpg
GEO:25.7958276;-80.1924866
X-APPLE-STRUCTURED-LOCATION;VALUE=URI;X-ADDRESS=Mr. Wright’s Gold Digger Saloon 111 Northeast 20th Street Miami FL 33137 United States;X-APPLE-RADIUS=500;X-TITLE=111 Northeast 20th Street:geo:-80.1924866,25.7958276
END:VEVENT
BEGIN:VEVENT
DTSTART;VALUE=DATE:20190824
DTEND;VALUE=DATE:20190825
DTSTAMP:20260419T084803
CREATED:20190824T194023Z
LAST-MODIFIED:20190824T194023Z
UID:86476-1566604800-1566691199@miamicalendar.com
SUMMARY:Ladies Night at Blackbird Ordinary
DESCRIPTION:Blackbird Ordinary on Tuesday night is considered one of the most popular ladies nights in all of Brickell. \nThe nightlife is very strong in Brickell\, and one of the biggest contributors in the area is the Blackbird. \nWith a large interior bar and outside dance floor\, you are bound to always have an intense after-hours experience here. \nEspecially when it comes to its weekly ladies night events on Tuesday. \nLadies drink free from 10pm-1:30am. (however please contact the venue in case this information changes). \nThere is a full bar and the bartenders here take the industry very seriously with speedy service\, and delightful cocktail creations. \nThere are plenty of beers on tap and bottled. \nExpect a rotation of DJ’s spinning hip-hop\, 80’s\, reggaeton\, and pop hits – and the occasional obscure dance tune to keep the nights fresh. \nBring your dancing attire! There will be plenty of people getting down on the dance floor. \nThe bass will rattle from the inside to the outside! \nThere is plenty of public parking in the Brickell area and you can do after hours dining in some great spots in walking distance from the venue. \nAlways a fun time during ladies night at the Blackbird Ordinary. \nCheck out the Blackbird Ordinary Instagram Feed. \nBlackbird Ordinary Yelp Page. \nLooking to make reservations? Click here.
URL:https://miamicalendar.com/event/ladies-night-at-blackbird-ordinary/2019-08-24/
LOCATION:Blackbird Ordinary\, 729 Southwest 1st Avenue\, Miami\, FL\, 33130\, United States
CATEGORIES:Brickell
ATTACH;FMTTYPE=image/jpeg:https://miamicalendar.com/wp-content/uploads/2019/08/Ladies-Night-at-Blackbird-Ordinary.jpg
GEO:25.766738;-80.1951176
X-APPLE-STRUCTURED-LOCATION;VALUE=URI;X-ADDRESS=Blackbird Ordinary 729 Southwest 1st Avenue Miami FL 33130 United States;X-APPLE-RADIUS=500;X-TITLE=729 Southwest 1st Avenue:geo:-80.1951176,25.766738
END:VEVENT
END:VCALENDAR