BEGIN:VCALENDAR
VERSION:2.0
PRODID:-//Miami Calendar - ECPv6.15.18//NONSGML v1.0//EN
CALSCALE:GREGORIAN
METHOD:PUBLISH
X-WR-CALNAME:Miami Calendar
X-ORIGINAL-URL:https://miamicalendar.com
X-WR-CALDESC:Events for Miami Calendar
REFRESH-INTERVAL;VALUE=DURATION:PT1H
X-Robots-Tag:noindex
X-PUBLISHED-TTL:PT1H
BEGIN:VTIMEZONE
TZID:America/New_York
BEGIN:DAYLIGHT
TZOFFSETFROM:-0500
TZOFFSETTO:-0400
TZNAME:EDT
DTSTART:20210314T070000
END:DAYLIGHT
BEGIN:STANDARD
TZOFFSETFROM:-0400
TZOFFSETTO:-0500
TZNAME:EST
DTSTART:20211107T060000
END:STANDARD
BEGIN:DAYLIGHT
TZOFFSETFROM:-0500
TZOFFSETTO:-0400
TZNAME:EDT
DTSTART:20220313T070000
END:DAYLIGHT
BEGIN:STANDARD
TZOFFSETFROM:-0400
TZOFFSETTO:-0500
TZNAME:EST
DTSTART:20221106T060000
END:STANDARD
BEGIN:DAYLIGHT
TZOFFSETFROM:-0500
TZOFFSETTO:-0400
TZNAME:EDT
DTSTART:20230312T070000
END:DAYLIGHT
BEGIN:STANDARD
TZOFFSETFROM:-0400
TZOFFSETTO:-0500
TZNAME:EST
DTSTART:20231105T060000
END:STANDARD
END:VTIMEZONE
BEGIN:VEVENT
DTSTART;TZID=America/New_York:20220616T210000
DTEND;TZID=America/New_York:20220617T040000
DTSTAMP:20260420T043618
CREATED:20220526T224312Z
LAST-MODIFIED:20220616T225142Z
UID:93386-1655413200-1655438400@miamicalendar.com
SUMMARY:Sweet Caroline 4 Year Anniversary Party!
DESCRIPTION:Join us on Thursday\, June 16th as we celebrate four years of singing\, drinking\, dancing\, and laughing at Sweet Caroline!\n\n\nJoin us on Thursday\, June 16th as we celebrate 4 years of singing\, drinking\, dancing\, and laughing at Sweet Caroline! To mark this very special occasion\, we’ll be unveiling two new cocktails! \nDoors open at 6 PM but the karaoke party starts at 9 PM. \nThank you all so much for your continued support. We couldn’t have gotten this far without you. See you at Sweet! \nThis RSVP is NOT for table reservations. For table reservations (minimum of 5 guests required to reserve a table) please call (786)673-2522 or  visit  https://www.sevenrooms.com/reservations/sweetcaroline.
URL:https://miamicalendar.com/event/sweet-caroline-4-year-anniversary-party/
LOCATION:Sweet Caroline Karaoke Bar\, 1111 Southwest 1st Avenue\, ##107\, Miami\, FL\, 33130\, United States
CATEGORIES:Brickell
ATTACH;FMTTYPE=image/jpeg:https://miamicalendar.com/wp-content/uploads/2022/05/f1391d9ad1b5676e717f7fcdda0efda1-yzcSfX.tmp_.jpg
GEO:25.7628418;-80.194655
X-APPLE-STRUCTURED-LOCATION;VALUE=URI;X-ADDRESS=Sweet Caroline Karaoke Bar 1111 Southwest 1st Avenue ##107 Miami FL 33130 United States;X-APPLE-RADIUS=500;X-TITLE=1111 Southwest 1st Avenue\, ##107:geo:-80.194655,25.7628418
END:VEVENT
BEGIN:VEVENT
DTSTART;TZID=America/New_York:20220620T210000
DTEND;TZID=America/New_York:20220621T040000
DTSTAMP:20260420T043618
CREATED:20220519T221711Z
LAST-MODIFIED:20220616T225143Z
UID:93358-1655758800-1655784000@miamicalendar.com
SUMMARY:Emo Karaoke Party at Sweet Caroline
DESCRIPTION:Join us once a month for Emo Karaoke at Sweet Caroline! Our emo-inspired\, specialty cocktail will be  $10 until midnight!\n\n\nBring your bleeding heart to Sweet Caroline on Monday\, June 20th\, for Emo Karaoke. Get ready to sing at the top of your lungs\, while enjoying our specialty cocktail\, “Cute Without The E”  for $10 until midnight. We’ll be hosting Emo Karaoke once a month\, so if you can’t make it to this one\, don’t shed a tear. Make sure to follow us on instagram\, @sweetcarolinebar\, to know when the next Emo Karaoke will take place!   \nSweet Caroline is Miami’s best karaoke bar! Choose from over 300\,000 songs to sing and a delicious cocktail menu crafted by some of Miami’s best bartenders. \nDoors open at 6 PM. Emo Karaoke begins at 9 PM. For table reservations: (786) 673-2522 or visit https://www.sevenrooms.com/reservations/sweetcaroline
URL:https://miamicalendar.com/event/emo-karaoke-party-at-sweet-caroline-4/
LOCATION:Sweet Caroline Karaoke Bar\, 1111 Southwest 1st Avenue\, ##107\, Miami\, FL\, 33130\, United States
CATEGORIES:Brickell
ATTACH;FMTTYPE=image/jpeg:https://miamicalendar.com/wp-content/uploads/2022/05/8805a07c0b8311e4d2bfbd7ab3290741-dm4JAi.tmp_.jpg
GEO:25.7628418;-80.194655
X-APPLE-STRUCTURED-LOCATION;VALUE=URI;X-ADDRESS=Sweet Caroline Karaoke Bar 1111 Southwest 1st Avenue ##107 Miami FL 33130 United States;X-APPLE-RADIUS=500;X-TITLE=1111 Southwest 1st Avenue\, ##107:geo:-80.194655,25.7628418
END:VEVENT
END:VCALENDAR